        BEGIN:VCALENDAR
VERSION:2.0
PRODID:-//Olympic View Parent Teach Club - ECPv6.15.20//NONSGML v1.0//EN
CALSCALE:GREGORIAN
METHOD:PUBLISH
X-WR-CALNAME:Olympic View Parent Teach Club
X-ORIGINAL-URL:https://ovptc.org
X-WR-CALDESC:Events for Olympic View Parent Teach Club
REFRESH-INTERVAL;VALUE=DURATION:PT1H
X-Robots-Tag:noindex
X-PUBLISHED-TTL:PT1H
BEGIN:VTIMEZONE
TZID:America/Los_Angeles
BEGIN:DAYLIGHT
TZOFFSETFROM:-0800
TZOFFSETTO:-0700
TZNAME:PDT
DTSTART:20240310T100000
END:DAYLIGHT
BEGIN:STANDARD
TZOFFSETFROM:-0700
TZOFFSETTO:-0800
TZNAME:PST
DTSTART:20241103T090000
END:STANDARD
BEGIN:DAYLIGHT
TZOFFSETFROM:-0800
TZOFFSETTO:-0700
TZNAME:PDT
DTSTART:20250309T100000
END:DAYLIGHT
BEGIN:STANDARD
TZOFFSETFROM:-0700
TZOFFSETTO:-0800
TZNAME:PST
DTSTART:20251102T090000
END:STANDARD
BEGIN:DAYLIGHT
TZOFFSETFROM:-0800
TZOFFSETTO:-0700
TZNAME:PDT
DTSTART:20260308T100000
END:DAYLIGHT
BEGIN:STANDARD
TZOFFSETFROM:-0700
TZOFFSETTO:-0800
TZNAME:PST
DTSTART:20261101T090000
END:STANDARD
END:VTIMEZONE
BEGIN:VEVENT
DTSTART;VALUE=DATE:20250723
DTEND;VALUE=DATE:20250724
DTSTAMP:20260425T071335
CREATED:20250718T190650Z
LAST-MODIFIED:20250718T190650Z
UID:8416-1753228800-1753315199@ovptc.org
SUMMARY:First day of school
DESCRIPTION:
URL:https://ovptc.org/event/first-day-of-school/
CATEGORIES:School Event
END:VEVENT
BEGIN:VEVENT
DTSTART;TZID=America/Los_Angeles:20250729T180000
DTEND;TZID=America/Los_Angeles:20250729T190000
DTSTAMP:20260425T071335
CREATED:20250718T204401Z
LAST-MODIFIED:20250718T204401Z
UID:8440-1753812000-1753815600@ovptc.org
SUMMARY:Back to School Night for TK-2nd Grade
DESCRIPTION:
URL:https://ovptc.org/event/back-to-school-night-for-tk-2nd-grade/
LOCATION:Olympic View Elementary\, 1220 South Greensview Drive\, Chula Vista\, CA\, 91915\, United States
CATEGORIES:School Event
END:VEVENT
BEGIN:VEVENT
DTSTART;TZID=America/Los_Angeles:20250730T180000
DTEND;TZID=America/Los_Angeles:20250730T190000
DTSTAMP:20260425T071335
CREATED:20250718T204505Z
LAST-MODIFIED:20250718T204505Z
UID:8442-1753898400-1753902000@ovptc.org
SUMMARY:Back to School Night for 3rd-4th Grade
DESCRIPTION:
URL:https://ovptc.org/event/back-to-school-night-for-3rd-4th-grade/
LOCATION:Olympic View Elementary\, 1220 South Greensview Drive\, Chula Vista\, CA\, 91915\, United States
CATEGORIES:School Event
END:VEVENT
BEGIN:VEVENT
DTSTART;TZID=America/Los_Angeles:20250731T180000
DTEND;TZID=America/Los_Angeles:20250731T190000
DTSTAMP:20260425T071335
CREATED:20250718T205602Z
LAST-MODIFIED:20250718T205602Z
UID:8445-1753984800-1753988400@ovptc.org
SUMMARY:Back to School Night for 5th-6th Grade
DESCRIPTION:
URL:https://ovptc.org/event/back-to-school-night-for-5th-6th-grade/
LOCATION:Olympic View Elementary\, 1220 South Greensview Drive\, Chula Vista\, CA\, 91915\, United States
CATEGORIES:School Event
END:VEVENT
END:VCALENDAR