        BEGIN:VCALENDAR
VERSION:2.0
PRODID:-//Olympic View Parent Teach Club - ECPv6.15.20//NONSGML v1.0//EN
CALSCALE:GREGORIAN
METHOD:PUBLISH
X-ORIGINAL-URL:https://ovptc.org
X-WR-CALDESC:Events for Olympic View Parent Teach Club
REFRESH-INTERVAL;VALUE=DURATION:PT1H
X-Robots-Tag:noindex
X-PUBLISHED-TTL:PT1H
BEGIN:VTIMEZONE
TZID:America/Los_Angeles
BEGIN:DAYLIGHT
TZOFFSETFROM:-0800
TZOFFSETTO:-0700
TZNAME:PDT
DTSTART:20240310T100000
END:DAYLIGHT
BEGIN:STANDARD
TZOFFSETFROM:-0700
TZOFFSETTO:-0800
TZNAME:PST
DTSTART:20241103T090000
END:STANDARD
BEGIN:DAYLIGHT
TZOFFSETFROM:-0800
TZOFFSETTO:-0700
TZNAME:PDT
DTSTART:20250309T100000
END:DAYLIGHT
BEGIN:STANDARD
TZOFFSETFROM:-0700
TZOFFSETTO:-0800
TZNAME:PST
DTSTART:20251102T090000
END:STANDARD
BEGIN:DAYLIGHT
TZOFFSETFROM:-0800
TZOFFSETTO:-0700
TZNAME:PDT
DTSTART:20260308T100000
END:DAYLIGHT
BEGIN:STANDARD
TZOFFSETFROM:-0700
TZOFFSETTO:-0800
TZNAME:PST
DTSTART:20261101T090000
END:STANDARD
BEGIN:DAYLIGHT
TZOFFSETFROM:-0800
TZOFFSETTO:-0700
TZNAME:PDT
DTSTART:20270314T100000
END:DAYLIGHT
BEGIN:STANDARD
TZOFFSETFROM:-0700
TZOFFSETTO:-0800
TZNAME:PST
DTSTART:20271107T090000
END:STANDARD
END:VTIMEZONE
BEGIN:VEVENT
DTSTART;TZID=America/Los_Angeles:20260408T170000
DTEND;TZID=America/Los_Angeles:20260408T180000
DTSTAMP:20260424T113136
CREATED:20250811T060554Z
LAST-MODIFIED:20250811T060554Z
UID:8928-1775667600-1775671200@ovptc.org
SUMMARY:Board Meeting
DESCRIPTION:
URL:https://ovptc.org/event/board-meeting-7/
LOCATION:Olympic View Elementary Auditorium\, 1220 South Greensview Drive\, Chula Vista\, CA\, 91915\, United States
CATEGORIES:OPTC Meetings
END:VEVENT
BEGIN:VEVENT
DTSTART;TZID=America/Los_Angeles:20260304T170000
DTEND;TZID=America/Los_Angeles:20260304T190000
DTSTAMP:20260424T113136
CREATED:20250811T060447Z
LAST-MODIFIED:20250811T060447Z
UID:8926-1772643600-1772650800@ovptc.org
SUMMARY:Board Meeting
DESCRIPTION:
URL:https://ovptc.org/event/board-meeting-6/
LOCATION:Olympic View Elementary Auditorium\, 1220 South Greensview Drive\, Chula Vista\, CA\, 91915\, United States
CATEGORIES:OPTC Meetings
END:VEVENT
BEGIN:VEVENT
DTSTART;TZID=America/Los_Angeles:20260204T170000
DTEND;TZID=America/Los_Angeles:20260204T180000
DTSTAMP:20260424T113136
CREATED:20250811T060212Z
LAST-MODIFIED:20250811T060212Z
UID:8922-1770224400-1770228000@ovptc.org
SUMMARY:Board Meeting
DESCRIPTION:
URL:https://ovptc.org/event/board-meeting-5/
LOCATION:Olympic View Elementary Auditorium\, 1220 South Greensview Drive\, Chula Vista\, CA\, 91915\, United States
CATEGORIES:OPTC Meetings
END:VEVENT
BEGIN:VEVENT
DTSTART;TZID=America/Los_Angeles:20260114T170000
DTEND;TZID=America/Los_Angeles:20260114T180000
DTSTAMP:20260424T113136
CREATED:20250811T055854Z
LAST-MODIFIED:20250811T055854Z
UID:8918-1768410000-1768413600@ovptc.org
SUMMARY:Board Meeting
DESCRIPTION:
URL:https://ovptc.org/event/board-meeting-4/
LOCATION:Olympic View Elementary Auditorium\, 1220 South Greensview Drive\, Chula Vista\, CA\, 91915\, United States
CATEGORIES:OPTC Meetings
END:VEVENT
BEGIN:VEVENT
DTSTART;TZID=America/Los_Angeles:20251203T170000
DTEND;TZID=America/Los_Angeles:20251203T180000
DTSTAMP:20260424T113136
CREATED:20250811T055501Z
LAST-MODIFIED:20250811T055501Z
UID:8912-1764781200-1764784800@ovptc.org
SUMMARY:Board Meeting
DESCRIPTION:
URL:https://ovptc.org/event/board-meeting-3/
LOCATION:Olympic View Elementary Auditorium\, 1220 South Greensview Drive\, Chula Vista\, CA\, 91915\, United States
CATEGORIES:OPTC Meetings
END:VEVENT
BEGIN:VEVENT
DTSTART;TZID=America/Los_Angeles:20251105T170000
DTEND;TZID=America/Los_Angeles:20251105T180000
DTSTAMP:20260424T113136
CREATED:20250811T055215Z
LAST-MODIFIED:20250811T055215Z
UID:8908-1762362000-1762365600@ovptc.org
SUMMARY:Board Meeting
DESCRIPTION:
URL:https://ovptc.org/event/board-meeting-2/
LOCATION:Olympic View Elementary Auditorium\, 1220 South Greensview Drive\, Chula Vista\, CA\, 91915\, United States
CATEGORIES:OPTC Meetings
END:VEVENT
BEGIN:VEVENT
DTSTART;TZID=America/Los_Angeles:20251008T170000
DTEND;TZID=America/Los_Angeles:20251008T180000
DTSTAMP:20260424T113136
CREATED:20250811T050914Z
LAST-MODIFIED:20250811T051435Z
UID:8883-1759942800-1759946400@ovptc.org
SUMMARY:Board Meeting
DESCRIPTION:
URL:https://ovptc.org/event/board-meeting/
LOCATION:Olympic View Elementary Auditorium\, 1220 South Greensview Drive\, Chula Vista\, CA\, 91915\, United States
CATEGORIES:OPTC Meetings
END:VEVENT
BEGIN:VEVENT
DTSTART;TZID=America/Los_Angeles:20250903T170000
DTEND;TZID=America/Los_Angeles:20250903T180000
DTSTAMP:20260424T113136
CREATED:20250806T201355Z
LAST-MODIFIED:20250811T051510Z
UID:8773-1756918800-1756922400@ovptc.org
SUMMARY:OPTC Board Meeting
DESCRIPTION:
URL:https://ovptc.org/event/optc-board-meeting/
LOCATION:Olympic View Elementary Auditorium\, 1220 South Greensview Drive\, Chula Vista\, CA\, 91915\, United States
CATEGORIES:OPTC Meetings
END:VEVENT
END:VCALENDAR