        BEGIN:VCALENDAR
VERSION:2.0
PRODID:-//Olympic View Parent Teach Club - ECPv6.15.20//NONSGML v1.0//EN
CALSCALE:GREGORIAN
METHOD:PUBLISH
X-ORIGINAL-URL:https://ovptc.org
X-WR-CALDESC:Events for Olympic View Parent Teach Club
REFRESH-INTERVAL;VALUE=DURATION:PT1H
X-Robots-Tag:noindex
X-PUBLISHED-TTL:PT1H
BEGIN:VTIMEZONE
TZID:America/Los_Angeles
BEGIN:DAYLIGHT
TZOFFSETFROM:-0800
TZOFFSETTO:-0700
TZNAME:PDT
DTSTART:20240310T100000
END:DAYLIGHT
BEGIN:STANDARD
TZOFFSETFROM:-0700
TZOFFSETTO:-0800
TZNAME:PST
DTSTART:20241103T090000
END:STANDARD
BEGIN:DAYLIGHT
TZOFFSETFROM:-0800
TZOFFSETTO:-0700
TZNAME:PDT
DTSTART:20250309T100000
END:DAYLIGHT
BEGIN:STANDARD
TZOFFSETFROM:-0700
TZOFFSETTO:-0800
TZNAME:PST
DTSTART:20251102T090000
END:STANDARD
BEGIN:DAYLIGHT
TZOFFSETFROM:-0800
TZOFFSETTO:-0700
TZNAME:PDT
DTSTART:20260308T100000
END:DAYLIGHT
BEGIN:STANDARD
TZOFFSETFROM:-0700
TZOFFSETTO:-0800
TZNAME:PST
DTSTART:20261101T090000
END:STANDARD
END:VTIMEZONE
BEGIN:VEVENT
DTSTART;TZID=America/Los_Angeles:20251024T170000
DTEND;TZID=America/Los_Angeles:20251024T190000
DTSTAMP:20260424T194739
CREATED:20250811T051745Z
LAST-MODIFIED:20250811T053845Z
UID:8889-1761325200-1761332400@ovptc.org
SUMMARY:Fall Festival 2025
DESCRIPTION:Enjoy activities such as \n\nGames\nFood\nTrunk or Treat\nPumpkin Contest\nHaunted Room\n\n			\n				\n				\n				\n				\n				Disclaimers: \n\nThis is for current Olympic View students and their families. Please do not drop off your students unattended.\nPhotos taken during this event may be posted on OPTC’s social media pages and/or shared with our generous donors that help make these events possible.\n\n			\n			\n				\n				\n				\n				\n				\n				\n				\n				\n				\n				\n	\n		\n			\n				\n	\n	\n\n				\n					Add to calendar				\n				\n	\n\n			\n			\n				\n											\n\n	\n		Google Calendar	\n\n											\n\n	\n		iCalendar	\n\n											\n\n	\n		Outlook 365	\n\n											\n\n	\n		Outlook Live	\n\n											\n\n	\n		Export .ics file	\n\n											\n\n	\n		Export Outlook .ics file	\n\n									\n			\n		\n	\n\n\n			\n				\n				\n				\n				\n				Ways to help \n\nSign up for trunk or treat\nHelp with the Haunted Room – we will need lights\, speakers\, small animatronics\, projectors\, IDEAS!\nCoordinators for the different events such as the Haunted Room and Pumpkin or Costume contests.
URL:https://ovptc.org/event/fall-festival-2025/
LOCATION:Olympic View Elementary\, 1220 South Greensview Drive\, Chula Vista\, CA\, 91915\, United States
CATEGORIES:OPTC Sponsored Event
ATTACH;FMTTYPE=image/jpeg:https://ovptc.org/wp-content/uploads/2025/08/pexels-yaroslav-shuraev-5607526-scaled.jpg
END:VEVENT
END:VCALENDAR