        BEGIN:VCALENDAR
VERSION:2.0
PRODID:-//Olympic View Parent Teach Club - ECPv6.15.20//NONSGML v1.0//EN
CALSCALE:GREGORIAN
METHOD:PUBLISH
X-ORIGINAL-URL:https://ovptc.org
X-WR-CALDESC:Events for Olympic View Parent Teach Club
REFRESH-INTERVAL;VALUE=DURATION:PT1H
X-Robots-Tag:noindex
X-PUBLISHED-TTL:PT1H
BEGIN:VTIMEZONE
TZID:America/Los_Angeles
BEGIN:DAYLIGHT
TZOFFSETFROM:-0800
TZOFFSETTO:-0700
TZNAME:PDT
DTSTART:20240310T100000
END:DAYLIGHT
BEGIN:STANDARD
TZOFFSETFROM:-0700
TZOFFSETTO:-0800
TZNAME:PST
DTSTART:20241103T090000
END:STANDARD
BEGIN:DAYLIGHT
TZOFFSETFROM:-0800
TZOFFSETTO:-0700
TZNAME:PDT
DTSTART:20250309T100000
END:DAYLIGHT
BEGIN:STANDARD
TZOFFSETFROM:-0700
TZOFFSETTO:-0800
TZNAME:PST
DTSTART:20251102T090000
END:STANDARD
BEGIN:DAYLIGHT
TZOFFSETFROM:-0800
TZOFFSETTO:-0700
TZNAME:PDT
DTSTART:20260308T100000
END:DAYLIGHT
BEGIN:STANDARD
TZOFFSETFROM:-0700
TZOFFSETTO:-0800
TZNAME:PST
DTSTART:20261101T090000
END:STANDARD
BEGIN:DAYLIGHT
TZOFFSETFROM:-0800
TZOFFSETTO:-0700
TZNAME:PDT
DTSTART:20270314T100000
END:DAYLIGHT
BEGIN:STANDARD
TZOFFSETFROM:-0700
TZOFFSETTO:-0800
TZNAME:PST
DTSTART:20271107T090000
END:STANDARD
END:VTIMEZONE
BEGIN:VEVENT
DTSTART;VALUE=DATE:20260323
DTEND;VALUE=DATE:20260404
DTSTAMP:20260424T113053
CREATED:20250718T192033Z
LAST-MODIFIED:20250718T192033Z
UID:8432-1774224000-1775260799@ovptc.org
SUMMARY:Spring Break
DESCRIPTION:
URL:https://ovptc.org/event/spring-break-2/
CATEGORIES:Holiday / Break
END:VEVENT
BEGIN:VEVENT
DTSTART;VALUE=DATE:20260216
DTEND;VALUE=DATE:20260217
DTSTAMP:20260424T113053
CREATED:20250718T191942Z
LAST-MODIFIED:20250718T191942Z
UID:8430-1771200000-1771286399@ovptc.org
SUMMARY:Washington Day
DESCRIPTION:
URL:https://ovptc.org/event/washington-day/
CATEGORIES:Holiday / Break
END:VEVENT
BEGIN:VEVENT
DTSTART;VALUE=DATE:20260213
DTEND;VALUE=DATE:20260214
DTSTAMP:20260424T113053
CREATED:20250718T191906Z
LAST-MODIFIED:20250718T191906Z
UID:8428-1770940800-1771027199@ovptc.org
SUMMARY:Lincoln Holiday
DESCRIPTION:
URL:https://ovptc.org/event/lincoln-holiday/
CATEGORIES:Holiday / Break
END:VEVENT
BEGIN:VEVENT
DTSTART;VALUE=DATE:20251222
DTEND;VALUE=DATE:20260113
DTSTAMP:20260424T113053
CREATED:20250718T191716Z
LAST-MODIFIED:20250718T191716Z
UID:8426-1766361600-1768262399@ovptc.org
SUMMARY:Winter Break
DESCRIPTION:
URL:https://ovptc.org/event/winter-break/
CATEGORIES:Holiday / Break
END:VEVENT
BEGIN:VEVENT
DTSTART;VALUE=DATE:20251124
DTEND;VALUE=DATE:20251129
DTSTAMP:20260424T113053
CREATED:20250718T191541Z
LAST-MODIFIED:20250718T191541Z
UID:8424-1763942400-1764374399@ovptc.org
SUMMARY:Thanksgiving Week Break
DESCRIPTION:
URL:https://ovptc.org/event/thanksgiving-week-break/
CATEGORIES:Holiday / Break
END:VEVENT
BEGIN:VEVENT
DTSTART;VALUE=DATE:20251111
DTEND;VALUE=DATE:20251112
DTSTAMP:20260424T113053
CREATED:20250718T191417Z
LAST-MODIFIED:20250718T191417Z
UID:8422-1762819200-1762905599@ovptc.org
SUMMARY:Veterans Day
DESCRIPTION:
URL:https://ovptc.org/event/veterans-day/
CATEGORIES:Holiday / Break
END:VEVENT
BEGIN:VEVENT
DTSTART;VALUE=DATE:20250922
DTEND;VALUE=DATE:20251004
DTSTAMP:20260424T113053
CREATED:20250718T191109Z
LAST-MODIFIED:20250718T191109Z
UID:8420-1758499200-1759535999@ovptc.org
SUMMARY:Fall Break
DESCRIPTION:
URL:https://ovptc.org/event/fall-break/
CATEGORIES:Holiday / Break
END:VEVENT
BEGIN:VEVENT
DTSTART;VALUE=DATE:20250901
DTEND;VALUE=DATE:20250902
DTSTAMP:20260424T113053
CREATED:20250718T190752Z
LAST-MODIFIED:20250718T190752Z
UID:8418-1756684800-1756771199@ovptc.org
SUMMARY:Labor Day
DESCRIPTION:
URL:https://ovptc.org/event/labor-day/
CATEGORIES:Holiday / Break
END:VEVENT
BEGIN:VEVENT
DTSTART;VALUE=DATE:20250606
DTEND;VALUE=DATE:20250607
DTSTAMP:20260424T113053
CREATED:20250227T030048Z
LAST-MODIFIED:20250320T052853Z
UID:7325-1749168000-1749254399@ovptc.org
SUMMARY:Last Day of School
DESCRIPTION:
URL:https://ovptc.org/event/last-day-of-school/
CATEGORIES:Holiday / Break
END:VEVENT
BEGIN:VEVENT
DTSTART;VALUE=DATE:20250526
DTEND;VALUE=DATE:20250527
DTSTAMP:20260424T113053
CREATED:20250227T030048Z
LAST-MODIFIED:20250321T204530Z
UID:7324-1748217600-1748303999@ovptc.org
SUMMARY:Memorial Day
DESCRIPTION:
URL:https://ovptc.org/event/memorial-day/
CATEGORIES:Holiday / Break
END:VEVENT
BEGIN:VEVENT
DTSTART;VALUE=DATE:20250324
DTEND;VALUE=DATE:20250405
DTSTAMP:20260424T113053
CREATED:20250227T030047Z
LAST-MODIFIED:20250322T010908Z
UID:7321-1742774400-1743811199@ovptc.org
SUMMARY:Spring Break
DESCRIPTION:
URL:https://ovptc.org/event/spring-break/
CATEGORIES:Holiday / Break
END:VEVENT
END:VCALENDAR