        BEGIN:VCALENDAR
VERSION:2.0
PRODID:-//Olympic View Parent Teach Club - ECPv6.15.20//NONSGML v1.0//EN
CALSCALE:GREGORIAN
METHOD:PUBLISH
X-WR-CALNAME:Olympic View Parent Teach Club
X-ORIGINAL-URL:https://ovptc.org
X-WR-CALDESC:Events for Olympic View Parent Teach Club
REFRESH-INTERVAL;VALUE=DURATION:PT1H
X-Robots-Tag:noindex
X-PUBLISHED-TTL:PT1H
BEGIN:VTIMEZONE
TZID:America/Los_Angeles
BEGIN:DAYLIGHT
TZOFFSETFROM:-0800
TZOFFSETTO:-0700
TZNAME:PDT
DTSTART:20250309T100000
END:DAYLIGHT
BEGIN:STANDARD
TZOFFSETFROM:-0700
TZOFFSETTO:-0800
TZNAME:PST
DTSTART:20251102T090000
END:STANDARD
BEGIN:DAYLIGHT
TZOFFSETFROM:-0800
TZOFFSETTO:-0700
TZNAME:PDT
DTSTART:20260308T100000
END:DAYLIGHT
BEGIN:STANDARD
TZOFFSETFROM:-0700
TZOFFSETTO:-0800
TZNAME:PST
DTSTART:20261101T090000
END:STANDARD
BEGIN:DAYLIGHT
TZOFFSETFROM:-0800
TZOFFSETTO:-0700
TZNAME:PDT
DTSTART:20270314T100000
END:DAYLIGHT
BEGIN:STANDARD
TZOFFSETFROM:-0700
TZOFFSETTO:-0800
TZNAME:PST
DTSTART:20271107T090000
END:STANDARD
END:VTIMEZONE
BEGIN:VEVENT
DTSTART;TZID=America/Los_Angeles:20260424T173000
DTEND;TZID=America/Los_Angeles:20260424T193000
DTSTAMP:20260423T101556
CREATED:20250811T060716Z
LAST-MODIFIED:20260408T170136Z
UID:8930-1777051800-1777059000@ovptc.org
SUMMARY:Ignite the Future - STEAM Night 2026
DESCRIPTION:Join us for an evening of hands-on activities that inspire curiosity\, creativity\, and discovery. \n\nInteractive STEM stations led by the Fleet Science Center\nStudent STEM club demonstrations\nStudent Art Gallery\nScholastic Book Fair\n\n			\n			\n				\n				\n				\n				\n			\n				\n				\n				\n				\n				\n				\n				\n				\n				\n				\n				#OVSteamNight2026\n			\n				\n				\n				\n				\n				Unable to load Instagram feed.
URL:https://ovptc.org/event/steam-night-2026/
LOCATION:Olympic View Elementary\, 1220 South Greensview Drive\, Chula Vista\, CA\, 91915\, United States
CATEGORIES:OPTC Sponsored Event
END:VEVENT
BEGIN:VEVENT
DTSTART;TZID=America/Los_Angeles:20260506T170000
DTEND;TZID=America/Los_Angeles:20260506T180000
DTSTAMP:20260423T101556
CREATED:20250811T060808Z
LAST-MODIFIED:20250811T060808Z
UID:8932-1778086800-1778090400@ovptc.org
SUMMARY:Board Meeting
DESCRIPTION:
URL:https://ovptc.org/event/board-meeting-8/
LOCATION:Olympic View Elementary Auditorium\, 1220 South Greensview Drive\, Chula Vista\, CA\, 91915\, United States
CATEGORIES:OPTC Meetings
END:VEVENT
BEGIN:VEVENT
DTSTART;VALUE=DATE:20260518
DTEND;VALUE=DATE:20260523
DTSTAMP:20260423T101556
CREATED:20250811T060916Z
LAST-MODIFIED:20250811T060916Z
UID:8934-1779062400-1779494399@ovptc.org
SUMMARY:Staff Appreciation
DESCRIPTION:
URL:https://ovptc.org/event/staff-appreciation/
CATEGORIES:School Event
END:VEVENT
BEGIN:VEVENT
DTSTART;VALUE=DATE:20260525
DTEND;VALUE=DATE:20260526
DTSTAMP:20260423T101556
CREATED:20250718T192118Z
LAST-MODIFIED:20250718T192118Z
UID:8434-1779667200-1779753599@ovptc.org
SUMMARY:Memorial Day
DESCRIPTION:
URL:https://ovptc.org/event/memorial-day-2/
CATEGORIES:Holiday / Break
END:VEVENT
BEGIN:VEVENT
DTSTART;VALUE=DATE:20260605
DTEND;VALUE=DATE:20260606
DTSTAMP:20260423T101556
CREATED:20250718T192215Z
LAST-MODIFIED:20250718T192215Z
UID:8436-1780617600-1780703999@ovptc.org
SUMMARY:Last day of school
DESCRIPTION:
URL:https://ovptc.org/event/last-day-of-school-2/
CATEGORIES:School Event
END:VEVENT
END:VCALENDAR